0.250000
0.000000
0.000000
-0.250000
661920.125000
4735089.875000
