0.250000
0.000000
0.000000
-0.250000
661970.125000
4732779.875000
