0.250000
0.000000
0.000000
-0.250000
651790.125000
4730219.875000
