0.250000
0.000000
0.000000
-0.250000
648430.125000
4727829.875000
