0.250000
0.000000
0.000000
-0.250000
552870.125000
4724079.875000
