0.250000
0.000000
0.000000
-0.250000
552900.125000
4719459.875000
