0.250000
0.000000
0.000000
-0.250000
563200.125000
4714919.875000
