0.250000
0.000000
0.000000
-0.250000
556400.125000
4710229.875000
