0.250000
0.000000
0.000000
-0.250000
559820.125000
4710259.875000
