0.250000
0.000000
0.000000
-0.250000
549570.125000
4707859.875000
