0.250000
0.000000
0.000000
-0.250000
569940.125000
4724239.875000
