0.250000
0.000000
0.000000
-0.250000
583600.125000
4724399.875000
