0.250000
0.000000
0.000000
-0.250000
587010.125000
4724449.875000
