0.250000
0.000000
0.000000
-0.250000
583660.125000
4719779.875000
