0.250000
0.000000
0.000000
-0.250000
583740.125000
4712839.875000
