0.250000
0.000000
0.000000
-0.250000
580370.125000
4708169.875000
