0.250000
0.000000
0.000000
-0.250000
614370.125000
4722539.875000
