0.250000
0.000000
0.000000
-0.250000
610990.125000
4720169.875000
