0.250000
0.000000
0.000000
-0.250000
617820.125000
4720289.875000
