0.250000
0.000000
0.000000
-0.250000
600810.125000
4715379.875000
