0.250000
0.000000
0.000000
-0.250000
607650.125000
4715489.875000
