0.250000
0.000000
0.000000
-0.250000
617900.125000
4715659.875000
