0.250000
0.000000
0.000000
-0.250000
604260.125000
4713119.875000
