0.250000
0.000000
0.000000
-0.250000
607680.125000
4713179.875000
