0.250000
0.000000
0.000000
-0.250000
594030.125000
4710659.875000
