0.250000
0.000000
0.000000
-0.250000
597490.125000
4708389.875000
