0.250000
0.000000
0.000000
-0.250000
621160.125000
4724979.875000
