0.250000
0.000000
0.000000
-0.250000
624570.125000
4725039.875000
