0.250000
0.000000
0.000000
-0.250000
627990.125000
4725099.875000
