0.250000
0.000000
0.000000
-0.250000
624620.125000
4722719.875000
