0.250000
0.000000
0.000000
-0.250000
624660.125000
4720409.875000
