0.250000
0.000000
0.000000
-0.250000
634910.125000
4720609.875000
