0.250000
0.000000
0.000000
-0.250000
641740.125000
4720749.875000
