0.250000
0.000000
0.000000
-0.250000
631580.125000
4715909.875000
