0.250000
0.000000
0.000000
-0.250000
641840.125000
4716119.875000
