0.250000
0.000000
0.000000
-0.250000
621360.125000
4713409.875000
