0.250000
0.000000
0.000000
-0.250000
624820.125000
4711159.875000
