0.250000
0.000000
0.000000
-0.250000
628250.125000
4711219.875000
