0.250000
0.000000
0.000000
-0.250000
621440.125000
4708779.875000
