0.250000
0.000000
0.000000
-0.250000
624870.125000
4708839.875000
