0.250000
0.000000
0.000000
-0.250000
638560.125000
4709109.875000
