0.250000
0.000000
0.000000
-0.250000
648530.125000
4723209.875000
