0.250000
0.000000
0.000000
-0.250000
648630.125000
4718579.875000
