0.250000
0.000000
0.000000
-0.250000
563320.125000
4701039.875000
