0.250000
0.000000
0.000000
-0.250000
573550.125000
4705769.875000
