0.250000
0.000000
0.000000
-0.250000
580400.125000
4705849.875000
