0.250000
0.000000
0.000000
-0.250000
583820.125000
4705889.875000
