0.250000
0.000000
0.000000
-0.250000
570150.125000
4703419.875000
