0.250000
0.000000
0.000000
-0.250000
577000.125000
4703499.875000
