0.250000
0.000000
0.000000
-0.250000
587300.125000
4701309.875000
